BEGIN:VCALENDAR
PRODID:-//AT Content Types//AT Event//EN
VERSION:1.0
BEGIN:VEVENT
DTSTART:20120521T090000Z
DTEND:20120521T103000Z
DCREATED:20120427T132423Z
UID:ATEvent-52401a1c39befc9b5f41a1de2cb740b9
SEQUENCE:0
LAST-MODIFIED:20120504T142013Z
SUMMARY:EXAM
LOCATION:Lecture Room Euler
PRIORITY:3
TRANSP:0
END:VEVENT
END:VCALENDAR
