BEGIN:VCALENDAR
PRODID:-//AT Content Types//AT Event//EN
VERSION:1.0
BEGIN:VEVENT
DTSTART:20090109T100000Z
DTEND:20090109T113000Z
DCREATED:20081126T084716Z
UID:ATEvent-322432772d648fd8b9043424f621f9c3
SEQUENCE:0
LAST-MODIFIED:20081126T084857Z
SUMMARY:EXAM
LOCATION:Lecture Room Euler
PRIORITY:3
TRANSP:0
END:VEVENT
END:VCALENDAR
