BEGIN:VCALENDAR
PRODID:-//AT Content Types//AT Event//EN
VERSION:1.0
BEGIN:VEVENT
DTSTART:20110509T090000Z
DTEND:20110509T103000Z
DCREATED:20110404T121441Z
UID:ATEvent-b57401501ec2b569e9158a4d06919a69
SEQUENCE:0
LAST-MODIFIED:20110404T121516Z
SUMMARY:EXAM
LOCATION:Lecture Room Euler
PRIORITY:3
TRANSP:0
END:VEVENT
END:VCALENDAR
