BEGIN:VCALENDAR
PRODID:-//AT Content Types//AT Event//EN
VERSION:2.0
METHOD:PUBLISH
BEGIN:VEVENT
DTSTAMP:20260421T172433Z
CREATED:20101215T134858Z
UID:ATEvent-20e61c54b92bfc0342ab6ee1f75b45a6
LAST-MODIFIED:20101215T134922Z
SUMMARY:EXAM
DTSTART:20110111T100000Z
DTEND:20110111T113000Z
LOCATION:Lecture Room Euler
CONTACT:A. Smirnov
URL:https://diploma-clear.ictp.it/courses/weekly-schedule/lecture-room-euler/exam-34
CLASS:PUBLIC
END:VEVENT
END:VCALENDAR
