BEGIN:VCALENDAR
PRODID:-//AT Content Types//AT Event//EN
VERSION:1.0
BEGIN:VEVENT
DTSTART:20101215T100000Z
DTEND:20101215T113000Z
DCREATED:20101129T153708Z
UID:ATEvent-2ead462df97141b47ca7d303285d608c
SEQUENCE:0
LAST-MODIFIED:20101129T153737Z
SUMMARY:EXAM
LOCATION:Lecture Room Euler
PRIORITY:3
TRANSP:0
END:VEVENT
END:VCALENDAR
