BEGIN:VCALENDAR
PRODID:-//AT Content Types//AT Event//EN
VERSION:1.0
BEGIN:VEVENT
DTSTART:20101126T100000Z
DTEND:20101126T113000Z
DCREATED:20101021T132957Z
UID:ATEvent-e8abe702224e27111f7abe0b7267e8a9
SEQUENCE:0
LAST-MODIFIED:20101021T133117Z
SUMMARY:EXAM
LOCATION:Lecture Room Euler
PRIORITY:3
TRANSP:0
END:VEVENT
END:VCALENDAR
