BEGIN:VCALENDAR
PRODID:-//AT Content Types//AT Event//EN
VERSION:2.0
METHOD:PUBLISH
BEGIN:VEVENT
DTSTAMP:20260421T142550Z
CREATED:20090421T132713Z
UID:ATEvent-797233f2ca49a1deb26af66a25054f25
LAST-MODIFIED:20090421T132756Z
SUMMARY:EXAM
DTSTART:20090504T090000Z
DTEND:20090504T103000Z
LOCATION:Lecture Room Euler
CONTACT:Alexander Nersesyan
URL:https://diploma-clear.ictp.it/courses/weekly-schedule/lecture-room-euler/exam-14
CLASS:PUBLIC
END:VEVENT
END:VCALENDAR
