BEGIN:VCALENDAR
PRODID:-//AT Content Types//AT Event//EN
VERSION:2.0
METHOD:PUBLISH
BEGIN:VEVENT
DTSTAMP:20260420T195053Z
CREATED:20081029T141916Z
UID:ATEvent-42f4ca6bb2e07f95fbbdea010ec3f2db
LAST-MODIFIED:20081029T141955Z
SUMMARY:EXAM
DTSTART:20081119T150000Z
DTEND:20081119T163000Z
LOCATION:Lecture Room Euler
CONTACT:Edi Gava
URL:https://diploma-clear.ictp.it/courses/weekly-schedule/lecture-room-euler/exam-1
CLASS:PUBLIC
END:VEVENT
END:VCALENDAR
