BEGIN:VCALENDAR
PRODID:-//AT Content Types//AT Event//EN
VERSION:2.0
METHOD:PUBLISH
BEGIN:VEVENT
DTSTAMP:20260422T123742Z
CREATED:20081126T084144Z
UID:ATEvent-406881b95d260eaf062821e387f468dd
LAST-MODIFIED:20081126T084244Z
SUMMARY:ESP-EDA
DTSTART:20090107T080000Z
DTEND:20090107T093000Z
LOCATION:Lecture Room Euler
CONTACT:Antonella Peresan
URL:https://diploma-clear.ictp.it/courses/weekly-schedule/lecture-room-euler/esp-eda
CLASS:PUBLIC
END:VEVENT
END:VCALENDAR
