BEGIN:VCALENDAR
PRODID:-//AT Content Types//AT Event//EN
VERSION:1.0
BEGIN:VEVENT
DTSTART:20200106T080000Z
DTEND:20200106T093000Z
DCREATED:20191118T093024Z
UID:ATEvent-743bf917b6754170bdd7826087d364e9
SEQUENCE:0
LAST-MODIFIED:20191118T093041Z
SUMMARY:EPIPHANY
LOCATION:Lecture Room Euler
PRIORITY:3
TRANSP:0
END:VEVENT
END:VCALENDAR
