BEGIN:VCALENDAR
PRODID:-//AT Content Types//AT Event//EN
VERSION:2.0
METHOD:PUBLISH
BEGIN:VEVENT
DTSTAMP:20260420T030757Z
CREATED:20200909T115317Z
UID:ATEvent-616e3d6f5406462a8629d3ceb4ba552b
LAST-MODIFIED:20200909T115518Z
SUMMARY:15:30 Medical Office mtg. - all students
DTSTART:20200915T120000Z
DTEND:20200915T133000Z
LOCATION:Lecture Room Euler
URL:https://diploma-clear.ictp.it/courses/weekly-schedule/lecture-room-euler/diploma-office-mtg-all-students
CLASS:PUBLIC
END:VEVENT
END:VCALENDAR
