BEGIN:VCALENDAR
PRODID:-//AT Content Types//AT Event//EN
VERSION:1.0
BEGIN:VEVENT
DTSTART:20081031T080000Z
DTEND:20081031T093000Z
DCREATED:20081009T080924Z
UID:ATEvent-7a9964d153ba44ceca82f526168c7010
SEQUENCE:0
LAST-MODIFIED:20081009T081802Z
SUMMARY:ICTP
LOCATION:Lecture Room Euler
PRIORITY:3
TRANSP:0
END:VEVENT
END:VCALENDAR
