BEGIN:VCALENDAR
PRODID:-//AT Content Types//AT Event//EN
VERSION:1.0
BEGIN:VEVENT
DTSTART:20090406T070000Z
DTEND:20090406T083000Z
DCREATED:20090112T144730Z
UID:ATEvent-35e3c4cc944ede1d878223da533ac9b2
SEQUENCE:0
LAST-MODIFIED:20090112T144822Z
SUMMARY:CMP-SUP
LOCATION:Lecture Room Euler
PRIORITY:3
TRANSP:0
END:VEVENT
END:VCALENDAR
