BEGIN:VCALENDAR
PRODID:-//AT Content Types//AT Event//EN
VERSION:2.0
METHOD:PUBLISH
BEGIN:VEVENT
DTSTAMP:20260421T054007Z
CREATED:20090112T144445Z
UID:ATEvent-6bac40f64189380880dae76ab7d86e1c
LAST-MODIFIED:20090112T144527Z
SUMMARY:CMP-SUP
DTSTART:20090403T070000Z
DTEND:20090403T083000Z
LOCATION:Lecture Room Euler
CONTACT:Oleg Yevtushenko
URL:https://diploma-clear.ictp.it/courses/weekly-schedule/lecture-room-euler/cmp-sup-6
CLASS:PUBLIC
END:VEVENT
END:VCALENDAR
