BEGIN:VCALENDAR
PRODID:-//AT Content Types//AT Event//EN
VERSION:1.0
BEGIN:VEVENT
DTSTART:20100410T070000Z
DTEND:20100410T083000Z
DCREATED:20100224T135628Z
UID:ATEvent-6ed0786f5df3f97639fb132947795517
SEQUENCE:0
LAST-MODIFIED:20100224T135659Z
SUMMARY:CMP-SUP
LOCATION:Lecture Room Euler
PRIORITY:3
TRANSP:0
END:VEVENT
END:VCALENDAR
