BEGIN:VCALENDAR
PRODID:-//AT Content Types//AT Event//EN
VERSION:2.0
METHOD:PUBLISH
BEGIN:VEVENT
DTSTAMP:20260420T055717Z
CREATED:20100222T112902Z
UID:ATEvent-e56e9138f91e0992dce4fe3fb90bbcac
LAST-MODIFIED:20100222T112933Z
SUMMARY:CMP-SUP
DTSTART:20100401T070000Z
DTEND:20100401T083000Z
LOCATION:Lecture Room Euler
CONTACT:Oleg Yevtushenko
URL:https://diploma-clear.ictp.it/courses/weekly-schedule/lecture-room-euler/cmp-sup-23
CLASS:PUBLIC
END:VEVENT
END:VCALENDAR
