BEGIN:VCALENDAR
PRODID:-//AT Content Types//AT Event//EN
VERSION:2.0
METHOD:PUBLISH
BEGIN:VEVENT
DTSTAMP:20260423T135144Z
CREATED:20100222T112539Z
UID:ATEvent-2fa5e54d7347cc95d5cf16663da3dd11
LAST-MODIFIED:20100222T112609Z
SUMMARY:CMP-SUP
DTSTART:20100331T070000Z
DTEND:20100331T083000Z
LOCATION:Lecture Room Euler
CONTACT:Oleg Yevtushenko
URL:https://diploma-clear.ictp.it/courses/weekly-schedule/lecture-room-euler/cmp-sup-22
CLASS:PUBLIC
END:VEVENT
END:VCALENDAR
