BEGIN:VCALENDAR
PRODID:-//AT Content Types//AT Event//EN
VERSION:1.0
BEGIN:VEVENT
DTSTART:20100323T080000Z
DTEND:20100323T093000Z
DCREATED:20100222T095118Z
UID:ATEvent-7748c2ad4c3b21b0f68239257bb1c475
SEQUENCE:0
LAST-MODIFIED:20100222T100050Z
SUMMARY:CMP-SUP
LOCATION:Lecture Room Euler
PRIORITY:3
TRANSP:0
END:VEVENT
END:VCALENDAR
