BEGIN:VCALENDAR
PRODID:-//AT Content Types//AT Event//EN
VERSION:1.0
BEGIN:VEVENT
DTSTART:20100316T080000Z
DTEND:20100316T093000Z
DCREATED:20091221T145507Z
UID:ATEvent-0c0c7d7c729edcedbe4c8c111c7885cb
SEQUENCE:0
LAST-MODIFIED:20091221T145522Z
SUMMARY:CMP-SUP
LOCATION:Lecture Room Euler
PRIORITY:3
TRANSP:0
END:VEVENT
END:VCALENDAR
