BEGIN:VCALENDAR
PRODID:-//AT Content Types//AT Event//EN
VERSION:1.0
BEGIN:VEVENT
DTSTART:20090416T070000Z
DTEND:20090416T083000Z
DCREATED:20090112T145241Z
UID:ATEvent-c47e91c38555868f7130521704ec419d
SEQUENCE:0
LAST-MODIFIED:20090112T145325Z
SUMMARY:CMP-SUP
LOCATION:Lecture Room Euler
PRIORITY:3
TRANSP:0
END:VEVENT
END:VCALENDAR
