BEGIN:VCALENDAR
PRODID:-//AT Content Types//AT Event//EN
VERSION:2.0
METHOD:PUBLISH
BEGIN:VEVENT
DTSTAMP:20260423T135150Z
CREATED:20090112T145141Z
UID:ATEvent-f2dc5fe81b3284a479191ccdfa0fcf9f
LAST-MODIFIED:20090112T145223Z
SUMMARY:CMP-SUP
DTSTART:20090415T070000Z
DTEND:20090415T083000Z
LOCATION:Lecture Room Euler
CONTACT:Oleg Yevtushenko
URL:https://diploma-clear.ictp.it/courses/weekly-schedule/lecture-room-euler/cmp-sup-10
CLASS:PUBLIC
END:VEVENT
END:VCALENDAR
