BEGIN:VCALENDAR
PRODID:-//AT Content Types//AT Event//EN
VERSION:2.0
METHOD:PUBLISH
BEGIN:VEVENT
DTSTAMP:20260421T113627Z
CREATED:20091221T142637Z
UID:ATEvent-e6f77940b1865751b8a331fb0b898a6e
LAST-MODIFIED:20091221T142657Z
SUMMARY:CMP-STP
DTSTART:20100212T080000Z
DTEND:20100212T093000Z
LOCATION:Lecture Room Euler
CONTACT:Andrea Gambassi
URL:https://diploma-clear.ictp.it/courses/weekly-schedule/lecture-room-euler/cmp-stp-8
CLASS:PUBLIC
END:VEVENT
END:VCALENDAR
