BEGIN:VCALENDAR
PRODID:-//AT Content Types//AT Event//EN
VERSION:1.0
BEGIN:VEVENT
DTSTART:20100209T080000Z
DTEND:20100209T093000Z
DCREATED:20091221T142245Z
UID:ATEvent-4476d3ec0c239a61dbb2bbe3cd1d8a64
SEQUENCE:0
LAST-MODIFIED:20091221T142320Z
SUMMARY:CMP-STP
LOCATION:Lecture Room Euler
PRIORITY:3
TRANSP:0
END:VEVENT
END:VCALENDAR
