BEGIN:VCALENDAR
PRODID:-//AT Content Types//AT Event//EN
VERSION:1.0
BEGIN:VEVENT
DTSTART:20100202T080000Z
DTEND:20100202T093000Z
DCREATED:20091217T131156Z
UID:ATEvent-341c195cfd6a2d6d48912fa3c5a2ff80
SEQUENCE:0
LAST-MODIFIED:20091217T131240Z
SUMMARY:CMP-STP
LOCATION:Lecture Room Euler
PRIORITY:3
TRANSP:0
END:VEVENT
END:VCALENDAR
