BEGIN:VCALENDAR
PRODID:-//AT Content Types//AT Event//EN
VERSION:2.0
METHOD:PUBLISH
BEGIN:VEVENT
DTSTAMP:20260420T010045Z
CREATED:20101029T153400Z
UID:ATEvent-b37dff9cff1c8185f440a5f877134ac4
LAST-MODIFIED:20101029T153436Z
SUMMARY:CMP-SB
DTSTART:20101123T080000Z
DTEND:20101123T093000Z
LOCATION:Lecture Room Euler
CONTACT:S. Scandolo
URL:https://diploma-clear.ictp.it/courses/weekly-schedule/lecture-room-euler/cmp-sb-54
CLASS:PUBLIC
END:VEVENT
END:VCALENDAR
