BEGIN:VCALENDAR
PRODID:-//AT Content Types//AT Event//EN
VERSION:2.0
METHOD:PUBLISH
BEGIN:VEVENT
DTSTAMP:20260422T195218Z
CREATED:20101029T153218Z
UID:ATEvent-c58f66b5cb369da72608e640c61433e8
LAST-MODIFIED:20101029T153344Z
SUMMARY:CMP-SB
DTSTART:20101122T080000Z
DTEND:20101122T093000Z
LOCATION:Lecture Room Euler
CONTACT:S. Scandolo
URL:https://diploma-clear.ictp.it/courses/weekly-schedule/lecture-room-euler/cmp-sb-53
CLASS:PUBLIC
END:VEVENT
END:VCALENDAR
