BEGIN:VCALENDAR
PRODID:-//AT Content Types//AT Event//EN
VERSION:2.0
METHOD:PUBLISH
BEGIN:VEVENT
DTSTAMP:20260420T184513Z
CREATED:20100917T101815Z
UID:ATEvent-e5e44bb94973cc56a25563e7a641117a
LAST-MODIFIED:20100917T101844Z
SUMMARY:CMP-SB
DTSTART:20101026T070000Z
DTEND:20101026T083000Z
LOCATION:Lecture Room Euler
CONTACT:S. Scandolo
URL:https://diploma-clear.ictp.it/courses/weekly-schedule/lecture-room-euler/cmp-sb-49
CLASS:PUBLIC
END:VEVENT
END:VCALENDAR
