BEGIN:VCALENDAR
PRODID:-//AT Content Types//AT Event//EN
VERSION:2.0
METHOD:PUBLISH
BEGIN:VEVENT
DTSTAMP:20260422T195217Z
CREATED:20100917T100901Z
UID:ATEvent-b66391d19661c01891108d59daeed18a
LAST-MODIFIED:20100917T101517Z
SUMMARY:CMP-SB
DTSTART:20101025T070000Z
DTEND:20101025T083000Z
LOCATION:Lecture Room Euler
CONTACT:S. Scandolo
URL:https://diploma-clear.ictp.it/courses/weekly-schedule/lecture-room-euler/cmp-sb-48
CLASS:PUBLIC
END:VEVENT
END:VCALENDAR
