BEGIN:VCALENDAR
PRODID:-//AT Content Types//AT Event//EN
VERSION:1.0
BEGIN:VEVENT
DTSTART:20101021T070000Z
DTEND:20101021T083000Z
DCREATED:20100916T145103Z
UID:ATEvent-8343eaeca71f1a467433f18c1831d0b2
SEQUENCE:0
LAST-MODIFIED:20100916T145128Z
SUMMARY:CMP-SB
LOCATION:Lecture Room Euler
PRIORITY:3
TRANSP:0
END:VEVENT
END:VCALENDAR
