BEGIN:VCALENDAR
PRODID:-//AT Content Types//AT Event//EN
VERSION:2.0
METHOD:PUBLISH
BEGIN:VEVENT
DTSTAMP:20260421T053937Z
CREATED:20100916T141410Z
UID:ATEvent-ec9f197f95b60c41f2ab1d0ddb65d41e
LAST-MODIFIED:20100916T141431Z
SUMMARY:CMP-SB
DTSTART:20101019T070000Z
DTEND:20101019T083000Z
LOCATION:Lecture Room Euler
CONTACT:S. Scandolo
URL:https://diploma-clear.ictp.it/courses/weekly-schedule/lecture-room-euler/cmp-sb-46
CLASS:PUBLIC
END:VEVENT
END:VCALENDAR
