BEGIN:VCALENDAR
PRODID:-//AT Content Types//AT Event//EN
VERSION:1.0
BEGIN:VEVENT
DTSTART:20101014T070000Z
DTEND:20101014T083000Z
DCREATED:20100916T122255Z
UID:ATEvent-1004588545747f49a669c4c34be1ee48
SEQUENCE:0
LAST-MODIFIED:20100916T122313Z
SUMMARY:CMP-SB
LOCATION:Lecture Room Euler
PRIORITY:3
TRANSP:0
END:VEVENT
END:VCALENDAR
