BEGIN:VCALENDAR
PRODID:-//AT Content Types//AT Event//EN
VERSION:2.0
METHOD:PUBLISH
BEGIN:VEVENT
DTSTAMP:20260419T135832Z
CREATED:20100916T120924Z
UID:ATEvent-dfb527d1b68d1c7704a5d19946dd6354
LAST-MODIFIED:20100916T121019Z
SUMMARY:CMP-SB
DTSTART:20101011T070000Z
DTEND:20101011T083000Z
LOCATION:Lecture Room Euler
URL:https://diploma-clear.ictp.it/courses/weekly-schedule/lecture-room-euler/cmp-sb-42
CLASS:PUBLIC
END:VEVENT
END:VCALENDAR
