BEGIN:VCALENDAR
PRODID:-//AT Content Types//AT Event//EN
VERSION:1.0
BEGIN:VEVENT
DTSTART:20090113T080000Z
DTEND:20090113T093000Z
DCREATED:20081128T133918Z
UID:ATEvent-a8c2713d233b8e78e601276d151f98fc
SEQUENCE:0
LAST-MODIFIED:20081128T133956Z
SUMMARY:CMP-SB
LOCATION:Lecture Room Euler
PRIORITY:3
TRANSP:0
END:VEVENT
END:VCALENDAR
