BEGIN:VCALENDAR
PRODID:-//AT Content Types//AT Event//EN
VERSION:1.0
BEGIN:VEVENT
DTSTART:20101116T080000Z
DTEND:20101116T093000Z
DCREATED:20100923T085452Z
UID:ATEvent-5a9e9f3756e43b075d9c50013e7f6720
SEQUENCE:0
LAST-MODIFIED:20100923T085533Z
SUMMARY:CMP-SB
LOCATION:Lecture Room Euler
PRIORITY:3
TRANSP:0
END:VEVENT
END:VCALENDAR
