BEGIN:VCALENDAR
PRODID:-//AT Content Types//AT Event//EN
VERSION:2.0
METHOD:PUBLISH
BEGIN:VEVENT
DTSTAMP:20260422T213316Z
CREATED:20100923T084718Z
UID:ATEvent-e686c7976ca33b35d49dde4b6fdf2e12
LAST-MODIFIED:20100923T085444Z
SUMMARY:CMP-SB
DTSTART:20101115T080000Z
DTEND:20101115T093000Z
LOCATION:Lecture Room Euler
CONTACT:S. Scandolo
URL:https://diploma-clear.ictp.it/courses/weekly-schedule/lecture-room-euler/cmp-sb-36
CLASS:PUBLIC
END:VEVENT
END:VCALENDAR
