BEGIN:VCALENDAR
PRODID:-//AT Content Types//AT Event//EN
VERSION:1.0
BEGIN:VEVENT
DTSTART:20100923T070000Z
DTEND:20100923T083000Z
DCREATED:20100828T111130Z
UID:ATEvent-9fcaf855a0bf3ec8322e5537a566160b
SEQUENCE:0
LAST-MODIFIED:20100828T111151Z
SUMMARY:CMP-SB
LOCATION:Lecture Room Euler
PRIORITY:3
TRANSP:0
END:VEVENT
END:VCALENDAR
