BEGIN:VCALENDAR
PRODID:-//AT Content Types//AT Event//EN
VERSION:1.0
BEGIN:VEVENT
DTSTART:20100920T070000Z
DTEND:20100920T083000Z
DCREATED:20100828T110239Z
UID:ATEvent-182024a88c6983d61fc4862302cbd698
SEQUENCE:0
LAST-MODIFIED:20100828T110329Z
SUMMARY:CMP-SB
LOCATION:Lecture Room Euler
PRIORITY:3
TRANSP:0
END:VEVENT
END:VCALENDAR
