BEGIN:VCALENDAR
PRODID:-//AT Content Types//AT Event//EN
VERSION:2.0
METHOD:PUBLISH
BEGIN:VEVENT
DTSTAMP:20260425T170435Z
CREATED:20100826T122152Z
UID:ATEvent-3d24b405cc38e0d65ff6f8e4cedad7df
LAST-MODIFIED:20100826T122229Z
SUMMARY:CMP-SB
DTSTART:20100907T070000Z
DTEND:20100907T083000Z
LOCATION:Lecture Room Euler
URL:https://diploma-clear.ictp.it/courses/weekly-schedule/lecture-room-euler/cmp-sb-31
CLASS:PUBLIC
END:VEVENT
END:VCALENDAR
