BEGIN:VCALENDAR
PRODID:-//AT Content Types//AT Event//EN
VERSION:2.0
METHOD:PUBLISH
BEGIN:VEVENT
DTSTAMP:20260421T190113Z
CREATED:20090309T142141Z
UID:ATEvent-4c16a56d64a3b88697daf5ab4394bed6
LAST-MODIFIED:20090309T142224Z
SUMMARY:CMP-MN tut.
DTSTART:20090318T100000Z
DTEND:20090318T113000Z
LOCATION:Lecture Room Euler
CONTACT:Thi K.Thanh Nguyen
URL:https://diploma-clear.ictp.it/courses/weekly-schedule/lecture-room-euler/cmp-mn-tut-1
CLASS:PUBLIC
END:VEVENT
END:VCALENDAR
