BEGIN:VCALENDAR
PRODID:-//AT Content Types//AT Event//EN
VERSION:2.0
METHOD:PUBLISH
BEGIN:VEVENT
DTSTAMP:20260420T205914Z
CREATED:20090112T112635Z
UID:ATEvent-2a1d81bd604f46e617c8f4e82bd1f51e
LAST-MODIFIED:20090218T092415Z
SUMMARY:CMP-MN
DTSTART:20090226T080000Z
DTEND:20090226T093000Z
LOCATION:Lecture Room Euler
CONTACT:Mikhail Kiselev
URL:https://diploma-clear.ictp.it/courses/weekly-schedule/lecture-room-euler/cmp-mn-5
CLASS:PUBLIC
END:VEVENT
END:VCALENDAR
