BEGIN:VCALENDAR
PRODID:-//AT Content Types//AT Event//EN
VERSION:2.0
METHOD:PUBLISH
BEGIN:VEVENT
DTSTAMP:20260421T071000Z
CREATED:20090112T112440Z
UID:ATEvent-4ad91835c406a8fc0f372340b8e19c61
LAST-MODIFIED:20090112T112523Z
SUMMARY:CMP-MN
DTSTART:20090223T080000Z
DTEND:20090223T093000Z
LOCATION:Lecture Room Euler
CONTACT:Mikhail Kiselev
URL:https://diploma-clear.ictp.it/courses/weekly-schedule/lecture-room-euler/cmp-mn-3
CLASS:PUBLIC
END:VEVENT
END:VCALENDAR
