BEGIN:VCALENDAR
PRODID:-//AT Content Types//AT Event//EN
VERSION:2.0
METHOD:PUBLISH
BEGIN:VEVENT
DTSTAMP:20260424T223346Z
CREATED:20110214T112425Z
UID:ATEvent-3244420f0bb1b65e1296c736b5d3972c
LAST-MODIFIED:20110214T112509Z
SUMMARY:CMP-MN
DTSTART:20110330T070000Z
DTEND:20110330T083000Z
LOCATION:Lecture Room Euler
CONTACT:M. Kiselev
URL:https://diploma-clear.ictp.it/courses/weekly-schedule/lecture-room-euler/cmp-mn-23
CLASS:PUBLIC
END:VEVENT
END:VCALENDAR
