BEGIN:VCALENDAR
PRODID:-//AT Content Types//AT Event//EN
VERSION:1.0
BEGIN:VEVENT
DTSTART:20110315T080000Z
DTEND:20110315T093000Z
DCREATED:20110214T092348Z
UID:ATEvent-a47ec36e45dc6a83f47b200eafc7c42f
SEQUENCE:0
LAST-MODIFIED:20110309T152820Z
SUMMARY:CMP-MN
LOCATION:Lecture Room Euler
PRIORITY:3
TRANSP:0
END:VEVENT
END:VCALENDAR
