BEGIN:VCALENDAR
PRODID:-//AT Content Types//AT Event//EN
VERSION:2.0
METHOD:PUBLISH
BEGIN:VEVENT
DTSTAMP:20260425T210757Z
CREATED:20110209T145532Z
UID:ATEvent-4d5f277bfbe0eb9c8c6642b25b9fa55f
LAST-MODIFIED:20110209T145557Z
SUMMARY:CMP-MN
DTSTART:20110309T080000Z
DTEND:20110309T093000Z
LOCATION:Lecture Room Euler
CONTACT:M. Kiselev
URL:https://diploma-clear.ictp.it/courses/weekly-schedule/lecture-room-euler/cmp-mn-14
CLASS:PUBLIC
END:VEVENT
END:VCALENDAR
