BEGIN:VCALENDAR
PRODID:-//AT Content Types//AT Event//EN
VERSION:2.0
METHOD:PUBLISH
BEGIN:VEVENT
DTSTAMP:20260422T135715Z
CREATED:20090112T111039Z
UID:ATEvent-03057ca38ecb6e6783b6c7ce1ec09ae4
LAST-MODIFIED:20090112T111239Z
SUMMARY:CMP-MN
DTSTART:20090218T080000Z
DTEND:20090218T093000Z
LOCATION:Lecture Room Euler
CONTACT:Mikhail Kiselev
URL:https://diploma-clear.ictp.it/courses/weekly-schedule/lecture-room-euler/cmp-mn-1
CLASS:PUBLIC
END:VEVENT
END:VCALENDAR
