BEGIN:VCALENDAR
PRODID:-//AT Content Types//AT Event//EN
VERSION:1.0
BEGIN:VEVENT
DTSTART:20120203T080000Z
DTEND:20120203T093000Z
DCREATED:20111216T150321Z
UID:ATEvent-83595a202ee88c3df7b3e32cc7eb01ae
SEQUENCE:0
LAST-MODIFIED:20111219T145013Z
SUMMARY:CMP-MBP
LOCATION:Lecture Room Euler
PRIORITY:3
TRANSP:0
END:VEVENT
END:VCALENDAR
