BEGIN:VCALENDAR
PRODID:-//AT Content Types//AT Event//EN
VERSION:1.0
BEGIN:VEVENT
DTSTART:20100310T080000Z
DTEND:20100310T093000Z
DCREATED:20091221T144645Z
UID:ATEvent-5657d62733c8e3908639713389bf277b
SEQUENCE:0
LAST-MODIFIED:20091221T144701Z
SUMMARY:CMP-MBP
LOCATION:Lecture Room Euler
PRIORITY:3
TRANSP:0
END:VEVENT
END:VCALENDAR
