BEGIN:VCALENDAR
PRODID:-//AT Content Types//AT Event//EN
VERSION:2.0
METHOD:PUBLISH
BEGIN:VEVENT
DTSTAMP:20260422T140902Z
CREATED:20141126T111443Z
UID:ATEvent-53356a93e88f493c827f04d911654358
LAST-MODIFIED:20141126T111608Z
SUMMARY:CMP-ES
DTSTART:20150414T070000Z
DTEND:20150414T083000Z
LOCATION:Lecture Room Euler
CONTACT:S. De Gironcoli
URL:https://diploma-clear.ictp.it/courses/weekly-schedule/lecture-room-euler/cmp-es-3
CLASS:PUBLIC
END:VEVENT
END:VCALENDAR
