BEGIN:VCALENDAR
PRODID:-//AT Content Types//AT Event//EN
VERSION:1.0
BEGIN:VEVENT
DTSTART:20181207T080000Z
DTEND:20181207T093000Z
DCREATED:20181025T072102Z
UID:ATEvent-88acc97aa894457f94b51b55672e87b7
SEQUENCE:0
LAST-MODIFIED:20181025T072122Z
SUMMARY:CMP-EPS tut. (3)
LOCATION:Lecture Room Euler
PRIORITY:3
TRANSP:0
END:VEVENT
END:VCALENDAR
