BEGIN:VCALENDAR
PRODID:-//AT Content Types//AT Event//EN
VERSION:2.0
METHOD:PUBLISH
BEGIN:VEVENT
DTSTAMP:20260422T095604Z
CREATED:20191021T135508Z
UID:ATEvent-8916b139386f4e93b6b9a208d94c7fe9
LAST-MODIFIED:20191021T135530Z
SUMMARY:CMP-EPS tut. (2)
DTSTART:20191107T080000Z
DTEND:20191107T093000Z
LOCATION:Lecture Room Euler
CONTACT:N. Stojic
URL:https://diploma-clear.ictp.it/courses/weekly-schedule/lecture-room-euler/cmp-eps-tut-2-6
CLASS:PUBLIC
END:VEVENT
END:VCALENDAR
